BEGIN:VCALENDAR
VERSION:2.0
PRODID:-//Cambridge High School - ECPv6.15.20//NONSGML v1.0//EN
CALSCALE:GREGORIAN
METHOD:PUBLISH
X-WR-CALNAME:Cambridge High School
X-ORIGINAL-URL:https://cambridge.edu.jo
X-WR-CALDESC:Events for Cambridge High School
REFRESH-INTERVAL;VALUE=DURATION:PT1H
X-Robots-Tag:noindex
X-PUBLISHED-TTL:PT1H
BEGIN:VTIMEZONE
TZID:UTC
BEGIN:STANDARD
TZOFFSETFROM:+0000
TZOFFSETTO:+0000
TZNAME:UTC
DTSTART:20240101T000000
END:STANDARD
END:VTIMEZONE
BEGIN:VEVENT
DTSTART;TZID=UTC:20260208T080000
DTEND;TZID=UTC:20260212T170000
DTSTAMP:20260422T221553
CREATED:20250908T073841Z
LAST-MODIFIED:20250908T073841Z
UID:2540-1770537600-1770915600@cambridge.edu.jo
SUMMARY:Career Week - Grades (10-12)
DESCRIPTION:
URL:https://cambridge.edu.jo/event/career-week-grades-10-12/
CATEGORIES:IBDP,Pre-IBDP (GR10)
END:VEVENT
BEGIN:VEVENT
DTSTART;TZID=UTC:20260208T080000
DTEND;TZID=UTC:20260212T170000
DTSTAMP:20260422T221553
CREATED:20250908T073745Z
LAST-MODIFIED:20250908T073745Z
UID:2538-1770537600-1770915600@cambridge.edu.jo
SUMMARY:English language competition - Grades (6-10) (English Dept.)
DESCRIPTION:
URL:https://cambridge.edu.jo/event/english-language-competition-grades-6-10-english-dept/
END:VEVENT
BEGIN:VEVENT
DTSTART;TZID=UTC:20260207T080000
DTEND;TZID=UTC:20260207T170000
DTSTAMP:20260422T221553
CREATED:20250908T074553Z
LAST-MODIFIED:20250908T074553Z
UID:2556-1770451200-1770483600@cambridge.edu.jo
SUMMARY:Grades (6-10) Parents' Meeting
DESCRIPTION:
URL:https://cambridge.edu.jo/event/grades-6-10-parents-meeting-2/
END:VEVENT
BEGIN:VEVENT
DTSTART;TZID=UTC:20260205T080000
DTEND;TZID=UTC:20260205T170000
DTSTAMP:20260422T221553
CREATED:20250908T073706Z
LAST-MODIFIED:20250908T073706Z
UID:2536-1770278400-1770310800@cambridge.edu.jo
SUMMARY:Embrace the Cultures Day- Grade 8 (I&S Dept.)
DESCRIPTION:
URL:https://cambridge.edu.jo/event/embrace-the-cultures-day-grade-8-is-dept/
END:VEVENT
BEGIN:VEVENT
DTSTART;TZID=UTC:20260201T080000
DTEND;TZID=UTC:20260205T170000
DTSTAMP:20260422T221553
CREATED:20250908T073640Z
LAST-MODIFIED:20250908T073640Z
UID:2534-1769932800-1770310800@cambridge.edu.jo
SUMMARY:Career Week - Grades (7-9)
DESCRIPTION:
URL:https://cambridge.edu.jo/event/career-week-grades-7-9/
END:VEVENT
BEGIN:VEVENT
DTSTART;TZID=UTC:20260201T080000
DTEND;TZID=UTC:20260201T170000
DTSTAMP:20260422T221553
CREATED:20250908T073600Z
LAST-MODIFIED:20250908T073600Z
UID:2532-1769932800-1769965200@cambridge.edu.jo
SUMMARY:Namleyet Ramadan Donation Campaign (4)
DESCRIPTION:
URL:https://cambridge.edu.jo/event/namleyet-ramadan-donation-campaign-4/
CATEGORIES:All School
END:VEVENT
BEGIN:VEVENT
DTSTART;TZID=UTC:20260129T080000
DTEND;TZID=UTC:20260129T170000
DTSTAMP:20260422T221553
CREATED:20250908T073358Z
LAST-MODIFIED:20250908T073358Z
UID:2526-1769673600-1769706000@cambridge.edu.jo
SUMMARY:Wiggy Wig Vibes- (KG Dept.)
DESCRIPTION:
URL:https://cambridge.edu.jo/event/wiggy-wig-vibes-kg-dept/
CATEGORIES:Kindergarten
END:VEVENT
BEGIN:VEVENT
DTSTART;TZID=UTC:20260129T080000
DTEND;TZID=UTC:20260129T170000
DTSTAMP:20260422T221553
CREATED:20250908T073313Z
LAST-MODIFIED:20250908T073313Z
UID:2524-1769673600-1769706000@cambridge.edu.jo
SUMMARY:Proud of Jordan's Markets Day - Grade 10 -(I&S Dept.)
DESCRIPTION:
URL:https://cambridge.edu.jo/event/proud-of-jordans-markets-day-grade-10-is-dept/
CATEGORIES:Pre-IBDP (GR10)
END:VEVENT
BEGIN:VEVENT
DTSTART;TZID=UTC:20260125T080000
DTEND;TZID=UTC:20260129T170000
DTSTAMP:20260422T221553
CREATED:20250908T073243Z
LAST-MODIFIED:20250908T073243Z
UID:2522-1769328000-1769706000@cambridge.edu.jo
SUMMARY:Submission of Grade 10 personal project reports
DESCRIPTION:
URL:https://cambridge.edu.jo/event/submission-of-grade-10-personal-project-reports/
CATEGORIES:Pre-IBDP (GR10)
END:VEVENT
BEGIN:VEVENT
DTSTART;TZID=UTC:20260118T080000
DTEND;TZID=UTC:20260129T170000
DTSTAMP:20260422T221553
CREATED:20250908T073437Z
LAST-MODIFIED:20250908T073437Z
UID:2528-1768723200-1769706000@cambridge.edu.jo
SUMMARY:Grade 12 mock exams
DESCRIPTION:
URL:https://cambridge.edu.jo/event/grade-12-mock-exams/
CATEGORIES:IBDP
END:VEVENT
BEGIN:VEVENT
DTSTART;TZID=UTC:20260118T080000
DTEND;TZID=UTC:20260118T170000
DTSTAMP:20260422T221553
CREATED:20250908T073150Z
LAST-MODIFIED:20250908T073150Z
UID:2520-1768723200-1768755600@cambridge.edu.jo
SUMMARY:Start of 2nd Semester
DESCRIPTION:
URL:https://cambridge.edu.jo/event/start-of-2nd-semester/
CATEGORIES:All School
END:VEVENT
BEGIN:VEVENT
DTSTART;TZID=UTC:20260101T080000
DTEND;TZID=UTC:20260101T170000
DTSTAMP:20260422T221553
CREATED:20250908T073508Z
LAST-MODIFIED:20250908T073508Z
UID:2530-1767254400-1767286800@cambridge.edu.jo
SUMMARY:New Year's Day
DESCRIPTION:
URL:https://cambridge.edu.jo/event/new-years-day/
CATEGORIES:All School
END:VEVENT
BEGIN:VEVENT
DTSTART;TZID=UTC:20251225T080000
DTEND;TZID=UTC:20251226T170000
DTSTAMP:20260422T221553
CREATED:20250908T073102Z
LAST-MODIFIED:20250908T073102Z
UID:2518-1766649600-1766768400@cambridge.edu.jo
SUMMARY:Christmas holidays
DESCRIPTION:
URL:https://cambridge.edu.jo/event/christmas-holidays/
CATEGORIES:All School
END:VEVENT
BEGIN:VEVENT
DTSTART;TZID=UTC:20251224T080000
DTEND;TZID=UTC:20260107T170000
DTSTAMP:20260422T221553
CREATED:20250908T073015Z
LAST-MODIFIED:20250908T073015Z
UID:2516-1766563200-1767805200@cambridge.edu.jo
SUMMARY:Winter holiday
DESCRIPTION:
URL:https://cambridge.edu.jo/event/winter-holiday/
CATEGORIES:All School
END:VEVENT
BEGIN:VEVENT
DTSTART;TZID=UTC:20251223T080000
DTEND;TZID=UTC:20251223T170000
DTSTAMP:20260422T221553
CREATED:20250908T072753Z
LAST-MODIFIED:20250908T072753Z
UID:2506-1766476800-1766509200@cambridge.edu.jo
SUMMARY:Last teaching day for grade 12 (1st semester)
DESCRIPTION:
URL:https://cambridge.edu.jo/event/last-teaching-day-for-grade-12-1st-semester/
CATEGORIES:IBDP
END:VEVENT
BEGIN:VEVENT
DTSTART;TZID=UTC:20251218T080000
DTEND;TZID=UTC:20251218T170000
DTSTAMP:20260422T221553
CREATED:20250908T072732Z
LAST-MODIFIED:20250908T072732Z
UID:2504-1766044800-1766077200@cambridge.edu.jo
SUMMARY:يوم اللغة العربية للصفوف (12-1)
DESCRIPTION:
URL:https://cambridge.edu.jo/event/%d9%8a%d9%88%d9%85-%d8%a7%d9%84%d9%84%d8%ba%d8%a9-%d8%a7%d9%84%d8%b9%d8%b1%d8%a8%d9%8a%d8%a9-%d9%84%d9%84%d8%b5%d9%81%d9%88%d9%81-12-1/
CATEGORIES:All School
END:VEVENT
BEGIN:VEVENT
DTSTART;TZID=UTC:20251213T080000
DTEND;TZID=UTC:20251213T170000
DTSTAMP:20260422T221553
CREATED:20250908T072940Z
LAST-MODIFIED:20250908T072940Z
UID:2514-1765612800-1765645200@cambridge.edu.jo
SUMMARY:Arabic A and English A Orals
DESCRIPTION:
URL:https://cambridge.edu.jo/event/arabic-a-and-english-a-orals/
CATEGORIES:IBDP
END:VEVENT
BEGIN:VEVENT
DTSTART;TZID=UTC:20251210T080000
DTEND;TZID=UTC:20251223T170000
DTSTAMP:20260422T221553
CREATED:20250908T072916Z
LAST-MODIFIED:20250908T072916Z
UID:2512-1765353600-1766509200@cambridge.edu.jo
SUMMARY:Final exams for Grades 1-11
DESCRIPTION:
URL:https://cambridge.edu.jo/event/final-exams-for-grades-1-11/
CATEGORIES:All School
END:VEVENT
BEGIN:VEVENT
DTSTART;TZID=UTC:20251208T080000
DTEND;TZID=UTC:20251208T170000
DTSTAMP:20260422T221553
CREATED:20250908T072851Z
LAST-MODIFIED:20250908T072851Z
UID:2510-1765180800-1765213200@cambridge.edu.jo
SUMMARY:Religion exam
DESCRIPTION:
URL:https://cambridge.edu.jo/event/religion-exam/
END:VEVENT
BEGIN:VEVENT
DTSTART;TZID=UTC:20251208T080000
DTEND;TZID=UTC:20251208T170000
DTSTAMP:20260422T221553
CREATED:20250908T072647Z
LAST-MODIFIED:20250908T072647Z
UID:2502-1765180800-1765213200@cambridge.edu.jo
SUMMARY:Christmas Bazar. (KG-12)
DESCRIPTION:
URL:https://cambridge.edu.jo/event/christmas-bazar-kg-12/
CATEGORIES:All School
END:VEVENT
BEGIN:VEVENT
DTSTART;TZID=UTC:20251208T080000
DTEND;TZID=UTC:20251208T170000
DTSTAMP:20260422T221553
CREATED:20250908T072629Z
LAST-MODIFIED:20250908T072629Z
UID:2500-1765180800-1765213200@cambridge.edu.jo
SUMMARY:Winter Donation Campaign “Warm Hearts 4”
DESCRIPTION:
URL:https://cambridge.edu.jo/event/winter-donation-campaign-warm-hearts-4-2/
END:VEVENT
BEGIN:VEVENT
DTSTART;TZID=UTC:20251202T080000
DTEND;TZID=UTC:20251202T170000
DTSTAMP:20260422T221553
CREATED:20250908T072613Z
LAST-MODIFIED:20250908T072613Z
UID:2498-1764662400-1764694800@cambridge.edu.jo
SUMMARY:Science Exhibition - Grade 9 (Science Dept.)
DESCRIPTION:
URL:https://cambridge.edu.jo/event/science-exhibition-grade-9-science-dept/
END:VEVENT
BEGIN:VEVENT
DTSTART;TZID=UTC:20251201T080000
DTEND;TZID=UTC:20251204T170000
DTSTAMP:20260422T221553
CREATED:20250908T072822Z
LAST-MODIFIED:20250908T072822Z
UID:2508-1764576000-1764867600@cambridge.edu.jo
SUMMARY:Grade 5 assembly
DESCRIPTION:
URL:https://cambridge.edu.jo/event/grade-5-assembly/
CATEGORIES:Primary
END:VEVENT
BEGIN:VEVENT
DTSTART;TZID=UTC:20251127T080000
DTEND;TZID=UTC:20251129T170000
DTSTAMP:20260422T221553
CREATED:20250908T071934Z
LAST-MODIFIED:20250908T071934Z
UID:2486-1764230400-1764435600@cambridge.edu.jo
SUMMARY:CHS MUN'25
DESCRIPTION:
URL:https://cambridge.edu.jo/event/chs-mun25/
CATEGORIES:All School
END:VEVENT
BEGIN:VEVENT
DTSTART;TZID=UTC:20251127T080000
DTEND;TZID=UTC:20251127T170000
DTSTAMP:20260422T221553
CREATED:20250908T071856Z
LAST-MODIFIED:20250908T071856Z
UID:2484-1764230400-1764262800@cambridge.edu.jo
SUMMARY:مسابقة التهجئة و الإملاء للصفوف 7-6 ( قسم اللغة العربية)
DESCRIPTION:
URL:https://cambridge.edu.jo/event/%d9%85%d8%b3%d8%a7%d8%a8%d9%82%d8%a9-%d8%a7%d9%84%d8%aa%d9%87%d8%ac%d8%a6%d8%a9-%d9%88-%d8%a7%d9%84%d8%a5%d9%85%d9%84%d8%a7%d8%a1-%d9%84%d9%84%d8%b5%d9%81%d9%88%d9%81-7-6-%d9%82%d8%b3%d9%85-%d8%a7/
END:VEVENT
BEGIN:VEVENT
DTSTART;TZID=UTC:20251127T080000
DTEND;TZID=UTC:20251127T170000
DTSTAMP:20260422T221553
CREATED:20250908T071837Z
LAST-MODIFIED:20250908T071837Z
UID:2482-1764230400-1764262800@cambridge.edu.jo
SUMMARY:KG Heritage Celebration
DESCRIPTION:
URL:https://cambridge.edu.jo/event/kg-heritage-celebration/
CATEGORIES:Kindergarten
END:VEVENT
BEGIN:VEVENT
DTSTART;TZID=UTC:20251123T080000
DTEND;TZID=UTC:20251127T170000
DTSTAMP:20260422T221553
CREATED:20250908T071819Z
LAST-MODIFIED:20250908T071819Z
UID:2480-1763884800-1764262800@cambridge.edu.jo
SUMMARY:بين السطور، للصفوف (5-1). قسم اللغة العربية
DESCRIPTION:
URL:https://cambridge.edu.jo/event/%d8%a8%d9%8a%d9%86-%d8%a7%d9%84%d8%b3%d8%b7%d9%88%d8%b1%d8%8c-%d9%84%d9%84%d8%b5%d9%81%d9%88%d9%81-5-1-%d9%82%d8%b3%d9%85-%d8%a7%d9%84%d9%84%d8%ba%d8%a9-%d8%a7%d9%84%d8%b9%d8%b1%d8%a8%d9%8a%d8%a9/
CATEGORIES:Primary
END:VEVENT
BEGIN:VEVENT
DTSTART;TZID=UTC:20251123T080000
DTEND;TZID=UTC:20251127T170000
DTSTAMP:20260422T221553
CREATED:20250908T071753Z
LAST-MODIFIED:20250908T071753Z
UID:2478-1763884800-1764262800@cambridge.edu.jo
SUMMARY:Challenge Your Math Week - Grades (6-10) (Math Dept.)
DESCRIPTION:
URL:https://cambridge.edu.jo/event/challenge-your-math-week-grades-6-10-math-dept/
END:VEVENT
BEGIN:VEVENT
DTSTART;TZID=UTC:20251120T080000
DTEND;TZID=UTC:20251120T170000
DTSTAMP:20260422T221553
CREATED:20250908T071727Z
LAST-MODIFIED:20250908T071727Z
UID:2476-1763625600-1763658000@cambridge.edu.jo
SUMMARY:مسابقة صورة و مثل للصف العاشر. ( قسم اللغة العربية)
DESCRIPTION:
URL:https://cambridge.edu.jo/event/%d9%85%d8%b3%d8%a7%d8%a8%d9%82%d8%a9-%d8%b5%d9%88%d8%b1%d8%a9-%d9%88-%d9%85%d8%ab%d9%84-%d9%84%d9%84%d8%b5%d9%81-%d8%a7%d9%84%d8%b9%d8%a7%d8%b4%d8%b1-%d9%82%d8%b3%d9%85-%d8%a7%d9%84%d9%84%d8%ba/
CATEGORIES:Pre-IBDP (GR10)
END:VEVENT
BEGIN:VEVENT
DTSTART;TZID=UTC:20251118T080000
DTEND;TZID=UTC:20251118T170000
DTSTAMP:20260422T221553
CREATED:20250908T071704Z
LAST-MODIFIED:20250908T071704Z
UID:2474-1763452800-1763485200@cambridge.edu.jo
SUMMARY:Meet the Architect Session - Grade 10 (Math Dept.)
DESCRIPTION:
URL:https://cambridge.edu.jo/event/meet-the-architect-session-grade-10-math-dept/
CATEGORIES:Pre-IBDP (GR10)
END:VEVENT
END:VCALENDAR