BEGIN:VCALENDAR
VERSION:2.0
PRODID:-//Cambridge High School - ECPv6.15.20//NONSGML v1.0//EN
CALSCALE:GREGORIAN
METHOD:PUBLISH
X-WR-CALNAME:Cambridge High School
X-ORIGINAL-URL:https://cambridge.edu.jo
X-WR-CALDESC:Events for Cambridge High School
REFRESH-INTERVAL;VALUE=DURATION:PT1H
X-Robots-Tag:noindex
X-PUBLISHED-TTL:PT1H
BEGIN:VTIMEZONE
TZID:UTC
BEGIN:STANDARD
TZOFFSETFROM:+0000
TZOFFSETTO:+0000
TZNAME:UTC
DTSTART:20240101T000000
END:STANDARD
END:VTIMEZONE
BEGIN:VEVENT
DTSTART;TZID=UTC:20251002T080000
DTEND;TZID=UTC:20251003T170000
DTSTAMP:20260422T221553
CREATED:20250908T071531Z
LAST-MODIFIED:20250908T071531Z
UID:2468-1759392000-1759510800@cambridge.edu.jo
SUMMARY:Grade 12 Wadi Rum Trip
DESCRIPTION:
URL:https://cambridge.edu.jo/event/grade-12-wadi-rum-trip/
CATEGORIES:IBDP
END:VEVENT
BEGIN:VEVENT
DTSTART;TZID=UTC:20251002T080000
DTEND;TZID=UTC:20251002T170000
DTSTAMP:20260422T221553
CREATED:20250908T070621Z
LAST-MODIFIED:20250908T070621Z
UID:2438-1759392000-1759424400@cambridge.edu.jo
SUMMARY:Human Rights: Know It\, Own It' Campaign - Grade 9 (I&S Dept.)
DESCRIPTION:
URL:https://cambridge.edu.jo/event/human-rights-know-it-own-it-campaign-grade-9-is-dept/
END:VEVENT
BEGIN:VEVENT
DTSTART;TZID=UTC:20251001T080000
DTEND;TZID=UTC:20251002T170000
DTSTAMP:20260422T221553
CREATED:20250908T070534Z
LAST-MODIFIED:20250908T070542Z
UID:2436-1759305600-1759424400@cambridge.edu.jo
SUMMARY:مسابقة القران الكريم (الصفوف 6 7-) قسم التربية الإسلامية
DESCRIPTION:
URL:https://cambridge.edu.jo/event/%d9%85%d8%b3%d8%a7%d8%a8%d9%82%d8%a9-%d8%a7%d9%84%d9%82%d8%b1%d8%a7%d9%86-%d8%a7%d9%84%d9%83%d8%b1%d9%8a%d9%85-%d8%a7%d9%84%d8%b5%d9%81%d9%88%d9%81-6-7-%d9%82%d8%b3%d9%85-%d8%a7%d9%84%d8%aa%d8%b1/
END:VEVENT
BEGIN:VEVENT
DTSTART;TZID=UTC:20251001T080000
DTEND;TZID=UTC:20251001T170000
DTSTAMP:20260422T221553
CREATED:20250908T070433Z
LAST-MODIFIED:20250908T070433Z
UID:2434-1759305600-1759338000@cambridge.edu.jo
SUMMARY:KG Students and Parents Sports Day. (PE Dept.)
DESCRIPTION:
URL:https://cambridge.edu.jo/event/kg-students-and-parents-sports-day-pe-dept/
CATEGORIES:Kindergarten
END:VEVENT
BEGIN:VEVENT
DTSTART;TZID=UTC:20250930T080000
DTEND;TZID=UTC:20250930T170000
DTSTAMP:20260422T221553
CREATED:20250908T065858Z
LAST-MODIFIED:20250908T065858Z
UID:2424-1759219200-1759251600@cambridge.edu.jo
SUMMARY:Stock Market Awareness Day - Grade 9. (Math Dept.)
DESCRIPTION:
URL:https://cambridge.edu.jo/event/stock-market-awareness-day-grade-9-math-dept/
CATEGORIES:All School
END:VEVENT
BEGIN:VEVENT
DTSTART;TZID=UTC:20250928T080000
DTEND;TZID=UTC:20250930T170000
DTSTAMP:20260422T221553
CREATED:20250908T065812Z
LAST-MODIFIED:20250908T065812Z
UID:2422-1759046400-1759251600@cambridge.edu.jo
SUMMARY:Grade 10 personal project registration
DESCRIPTION:
URL:https://cambridge.edu.jo/event/grade-10-personal-project-registration/
END:VEVENT
BEGIN:VEVENT
DTSTART;TZID=UTC:20250928T080000
DTEND;TZID=UTC:20250930T170000
DTSTAMP:20260422T221553
CREATED:20250908T065729Z
LAST-MODIFIED:20250908T065729Z
UID:2420-1759046400-1759251600@cambridge.edu.jo
SUMMARY:The Emerald Dreams Play
DESCRIPTION:
URL:https://cambridge.edu.jo/event/the-emerald-dreams-play/
CATEGORIES:All School
END:VEVENT
BEGIN:VEVENT
DTSTART;TZID=UTC:20250925T080000
DTEND;TZID=UTC:20250925T170000
DTSTAMP:20260422T221553
CREATED:20250908T065545Z
LAST-MODIFIED:20250908T065546Z
UID:2416-1758787200-1758819600@cambridge.edu.jo
SUMMARY:After school day camp - Grade 5
DESCRIPTION:
URL:https://cambridge.edu.jo/event/after-school-day-camp-grade-5/
CATEGORIES:MYP
END:VEVENT
BEGIN:VEVENT
DTSTART;TZID=UTC:20250925T080000
DTEND;TZID=UTC:20250925T170000
DTSTAMP:20260422T221553
CREATED:20250908T065422Z
LAST-MODIFIED:20250908T065422Z
UID:2414-1758787200-1758819600@cambridge.edu.jo
SUMMARY:3rd. NGO Fair - Grades (7-11)
DESCRIPTION:
URL:https://cambridge.edu.jo/event/3rd-ngo-fair-grades-7-11/
CATEGORIES:IBDP,MYP,Pre-IBDP (GR10)
END:VEVENT
BEGIN:VEVENT
DTSTART;TZID=UTC:20250921T080000
DTEND;TZID=UTC:20250925T170000
DTSTAMP:20260422T221553
CREATED:20250908T065642Z
LAST-MODIFIED:20250908T065642Z
UID:2418-1758441600-1758819600@cambridge.edu.jo
SUMMARY:Pieces of Me - Grades (1-5). (GP and Arabic Social Studies Dept.)
DESCRIPTION:
URL:https://cambridge.edu.jo/event/pieces-of-me-grades-1-5-gp-and-arabic-social-studies-dept/
CATEGORIES:MYP
END:VEVENT
BEGIN:VEVENT
DTSTART;TZID=UTC:20250920T080000
DTEND;TZID=UTC:20250920T170000
DTSTAMP:20260422T221553
CREATED:20250908T070030Z
LAST-MODIFIED:20250908T070030Z
UID:2430-1758355200-1758387600@cambridge.edu.jo
SUMMARY:Grade 1 and 4 orientation
DESCRIPTION:
URL:https://cambridge.edu.jo/event/grade-1-and-4-orientation/
CATEGORIES:Primary
END:VEVENT
BEGIN:VEVENT
DTSTART;TZID=UTC:20250918T080000
DTEND;TZID=UTC:20250918T170000
DTSTAMP:20260422T221553
CREATED:20250908T065136Z
LAST-MODIFIED:20250908T065136Z
UID:2412-1758182400-1758214800@cambridge.edu.jo
SUMMARY:Little Dreamers - (KG Dept.)
DESCRIPTION:
URL:https://cambridge.edu.jo/event/little-dreamers-kg-dept/
CATEGORIES:Kindergarten
END:VEVENT
BEGIN:VEVENT
DTSTART;TZID=UTC:20250913T080000
DTEND;TZID=UTC:20250913T170000
DTSTAMP:20260422T221553
CREATED:20250908T070005Z
LAST-MODIFIED:20250908T070005Z
UID:2428-1757750400-1757782800@cambridge.edu.jo
SUMMARY:IBDP Grades 11-12 orientation
DESCRIPTION:
URL:https://cambridge.edu.jo/event/ibdp-grades-11-12-orientation/
CATEGORIES:IBDP
END:VEVENT
BEGIN:VEVENT
DTSTART;TZID=UTC:20250913T080000
DTEND;TZID=UTC:20250913T170000
DTSTAMP:20260422T221553
CREATED:20250908T065932Z
LAST-MODIFIED:20250908T065937Z
UID:2426-1757750400-1757782800@cambridge.edu.jo
SUMMARY:IBMYP Grades 6-10 orientation
DESCRIPTION:
URL:https://cambridge.edu.jo/event/ibmyp-grades-6-10-orientation/
END:VEVENT
BEGIN:VEVENT
DTSTART;TZID=UTC:20250911T080000
DTEND;TZID=UTC:20250911T170000
DTSTAMP:20260422T221553
CREATED:20250908T065048Z
LAST-MODIFIED:20250908T065048Z
UID:2410-1757577600-1757610000@cambridge.edu.jo
SUMMARY:H2O Fun Day- Grades (KG\,1-5)
DESCRIPTION:
URL:https://cambridge.edu.jo/event/h2o-fun-day-grades-kg1-5/
CATEGORIES:MYP,Primary
END:VEVENT
BEGIN:VEVENT
DTSTART;TZID=UTC:20250904T080000
DTEND;TZID=UTC:20250904T170000
DTSTAMP:20260422T221553
CREATED:20250908T070152Z
LAST-MODIFIED:20250908T070152Z
UID:2432-1756972800-1757005200@cambridge.edu.jo
SUMMARY:Prophet Mohammad's Birthday Holiday
DESCRIPTION:
URL:https://cambridge.edu.jo/event/prophet-mohammads-birthday-holiday/
CATEGORIES:All School
END:VEVENT
BEGIN:VEVENT
DTSTART;TZID=UTC:20250901T080000
DTEND;TZID=UTC:20250903T170000
DTSTAMP:20260422T221553
CREATED:20250908T064909Z
LAST-MODIFIED:20250908T064909Z
UID:2408-1756713600-1756918800@cambridge.edu.jo
SUMMARY:Embrace the MYP Week- Grade 6
DESCRIPTION:
URL:https://cambridge.edu.jo/event/embrace-the-myp-week-grade-6/
CATEGORIES:MYP
END:VEVENT
BEGIN:VEVENT
DTSTART;TZID=UTC:20250901T080000
DTEND;TZID=UTC:20250901T170000
DTSTAMP:20260422T221553
CREATED:20250908T064834Z
LAST-MODIFIED:20250908T064834Z
UID:2406-1756713600-1756746000@cambridge.edu.jo
SUMMARY:Start of 1st Semester for KG2
DESCRIPTION:
URL:https://cambridge.edu.jo/event/start-of-1st-semester-for-kg2/
END:VEVENT
BEGIN:VEVENT
DTSTART;TZID=UTC:20250901T080000
DTEND;TZID=UTC:20250901T170000
DTSTAMP:20260422T221553
CREATED:20250908T064549Z
LAST-MODIFIED:20250908T064652Z
UID:2404-1756713600-1756746000@cambridge.edu.jo
SUMMARY:Start of 1st semester for grades (1-10)
DESCRIPTION:
URL:https://cambridge.edu.jo/event/start-of-1st-semester-for-grades-1-10/
CATEGORIES:All School,MYP,Primary
END:VEVENT
END:VCALENDAR