BEGIN:VCALENDAR
VERSION:2.0
PRODID:-//Cambridge High School - ECPv6.15.20//NONSGML v1.0//EN
CALSCALE:GREGORIAN
METHOD:PUBLISH
X-WR-CALNAME:Cambridge High School
X-ORIGINAL-URL:https://cambridge.edu.jo
X-WR-CALDESC:Events for Cambridge High School
REFRESH-INTERVAL;VALUE=DURATION:PT1H
X-Robots-Tag:noindex
X-PUBLISHED-TTL:PT1H
BEGIN:VTIMEZONE
TZID:UTC
BEGIN:STANDARD
TZOFFSETFROM:+0000
TZOFFSETTO:+0000
TZNAME:UTC
DTSTART:20240101T000000
END:STANDARD
END:VTIMEZONE
BEGIN:VEVENT
DTSTART;TZID=UTC:20260316T080000
DTEND;TZID=UTC:20260319T170000
DTSTAMP:20260425T181109
CREATED:20250908T075643Z
LAST-MODIFIED:20250908T075643Z
UID:2577-1773648000-1773939600@cambridge.edu.jo
SUMMARY:Science Fair - Grade 4
DESCRIPTION:
URL:https://cambridge.edu.jo/event/science-fair-grade-4/
CATEGORIES:Primary
END:VEVENT
BEGIN:VEVENT
DTSTART;TZID=UTC:20260315T080000
DTEND;TZID=UTC:20260319T170000
DTSTAMP:20260425T181109
CREATED:20250908T075206Z
LAST-MODIFIED:20250908T075206Z
UID:2569-1773561600-1773939600@cambridge.edu.jo
SUMMARY:The Great Curiosity Show - Grades (1-4)- (Math & Science Depts.)
DESCRIPTION:
URL:https://cambridge.edu.jo/event/the-great-curiosity-show-grades-1-4-math-science-depts/
CATEGORIES:Primary
END:VEVENT
BEGIN:VEVENT
DTSTART;TZID=UTC:20260222T080000
DTEND;TZID=UTC:20260226T170000
DTSTAMP:20260425T181109
CREATED:20250908T074116Z
LAST-MODIFIED:20250908T074116Z
UID:2546-1771747200-1772125200@cambridge.edu.jo
SUMMARY:Heart Prints and Helping Hands Grades (1-5)-(Counselling Dept.)
DESCRIPTION:
URL:https://cambridge.edu.jo/event/heart-prints-and-helping-hands-grades-1-5-counselling-dept/
CATEGORIES:Primary
END:VEVENT
BEGIN:VEVENT
DTSTART;TZID=UTC:20260214T080000
DTEND;TZID=UTC:20260214T170000
DTSTAMP:20260425T181109
CREATED:20250908T074715Z
LAST-MODIFIED:20250908T074715Z
UID:2560-1771056000-1771088400@cambridge.edu.jo
SUMMARY:Grades (1-5) Parents' Meeting
DESCRIPTION:
URL:https://cambridge.edu.jo/event/grades-1-5-parents-meeting-2/
CATEGORIES:Primary
END:VEVENT
BEGIN:VEVENT
DTSTART;TZID=UTC:20251201T080000
DTEND;TZID=UTC:20251204T170000
DTSTAMP:20260425T181109
CREATED:20250908T072822Z
LAST-MODIFIED:20250908T072822Z
UID:2508-1764576000-1764867600@cambridge.edu.jo
SUMMARY:Grade 5 assembly
DESCRIPTION:
URL:https://cambridge.edu.jo/event/grade-5-assembly/
CATEGORIES:Primary
END:VEVENT
BEGIN:VEVENT
DTSTART;TZID=UTC:20251123T080000
DTEND;TZID=UTC:20251127T170000
DTSTAMP:20260425T181109
CREATED:20250908T071819Z
LAST-MODIFIED:20250908T071819Z
UID:2480-1763884800-1764262800@cambridge.edu.jo
SUMMARY:بين السطور، للصفوف (5-1). قسم اللغة العربية
DESCRIPTION:
URL:https://cambridge.edu.jo/event/%d8%a8%d9%8a%d9%86-%d8%a7%d9%84%d8%b3%d8%b7%d9%88%d8%b1%d8%8c-%d9%84%d9%84%d8%b5%d9%81%d9%88%d9%81-5-1-%d9%82%d8%b3%d9%85-%d8%a7%d9%84%d9%84%d8%ba%d8%a9-%d8%a7%d9%84%d8%b9%d8%b1%d8%a8%d9%8a%d8%a9/
CATEGORIES:Primary
END:VEVENT
BEGIN:VEVENT
DTSTART;TZID=UTC:20251108T080000
DTEND;TZID=UTC:20251108T170000
DTSTAMP:20260425T181109
CREATED:20250908T072054Z
LAST-MODIFIED:20250908T072054Z
UID:2492-1762588800-1762621200@cambridge.edu.jo
SUMMARY:Grades 1- 5 Parents' Meeting
DESCRIPTION:
URL:https://cambridge.edu.jo/event/grades-1-5-parents-meeting/
CATEGORIES:Primary
END:VEVENT
BEGIN:VEVENT
DTSTART;TZID=UTC:20251104T080000
DTEND;TZID=UTC:20251106T170000
DTSTAMP:20260425T181109
CREATED:20250908T071958Z
LAST-MODIFIED:20250908T071958Z
UID:2488-1762243200-1762448400@cambridge.edu.jo
SUMMARY:Grade 3 assembly
DESCRIPTION:
URL:https://cambridge.edu.jo/event/grade-3-assembly/
CATEGORIES:Primary
END:VEVENT
BEGIN:VEVENT
DTSTART;TZID=UTC:20251016T080000
DTEND;TZID=UTC:20251016T170000
DTSTAMP:20260425T181109
CREATED:20250908T071242Z
LAST-MODIFIED:20250908T071242Z
UID:2458-1760601600-1760634000@cambridge.edu.jo
SUMMARY:After school day camp - Grades (1-2)
DESCRIPTION:
URL:https://cambridge.edu.jo/event/after-school-day-camp-grades-1-2/
CATEGORIES:Primary
END:VEVENT
BEGIN:VEVENT
DTSTART;TZID=UTC:20251009T080000
DTEND;TZID=UTC:20251009T170000
DTSTAMP:20260425T181109
CREATED:20250908T071133Z
LAST-MODIFIED:20250908T071133Z
UID:2452-1759996800-1760029200@cambridge.edu.jo
SUMMARY:After school day camp - Grades (3-4).
DESCRIPTION:
URL:https://cambridge.edu.jo/event/after-school-day-camp-grades-3-4/
CATEGORIES:Primary
END:VEVENT
BEGIN:VEVENT
DTSTART;TZID=UTC:20251005T080000
DTEND;TZID=UTC:20251009T170000
DTSTAMP:20260425T181109
CREATED:20250908T070951Z
LAST-MODIFIED:20250908T070951Z
UID:2446-1759651200-1760029200@cambridge.edu.jo
SUMMARY:Tales and Twists - Grades (1-5)-(English Dept.)
DESCRIPTION:
URL:https://cambridge.edu.jo/event/tales-and-twists-grades-1-5-english-dept/
CATEGORIES:Primary
END:VEVENT
BEGIN:VEVENT
DTSTART;TZID=UTC:20250920T080000
DTEND;TZID=UTC:20250920T170000
DTSTAMP:20260425T181109
CREATED:20250908T070030Z
LAST-MODIFIED:20250908T070030Z
UID:2430-1758355200-1758387600@cambridge.edu.jo
SUMMARY:Grade 1 and 4 orientation
DESCRIPTION:
URL:https://cambridge.edu.jo/event/grade-1-and-4-orientation/
CATEGORIES:Primary
END:VEVENT
BEGIN:VEVENT
DTSTART;TZID=UTC:20250911T080000
DTEND;TZID=UTC:20250911T170000
DTSTAMP:20260425T181109
CREATED:20250908T065048Z
LAST-MODIFIED:20250908T065048Z
UID:2410-1757577600-1757610000@cambridge.edu.jo
SUMMARY:H2O Fun Day- Grades (KG\,1-5)
DESCRIPTION:
URL:https://cambridge.edu.jo/event/h2o-fun-day-grades-kg1-5/
CATEGORIES:MYP,Primary
END:VEVENT
BEGIN:VEVENT
DTSTART;TZID=UTC:20250901T080000
DTEND;TZID=UTC:20250901T170000
DTSTAMP:20260425T181109
CREATED:20250908T064549Z
LAST-MODIFIED:20250908T064652Z
UID:2404-1756713600-1756746000@cambridge.edu.jo
SUMMARY:Start of 1st semester for grades (1-10)
DESCRIPTION:
URL:https://cambridge.edu.jo/event/start-of-1st-semester-for-grades-1-10/
CATEGORIES:All School,MYP,Primary
END:VEVENT
END:VCALENDAR