BEGIN:VCALENDAR
VERSION:2.0
PRODID:-//Cambridge High School - ECPv6.15.14//NONSGML v1.0//EN
CALSCALE:GREGORIAN
METHOD:PUBLISH
X-WR-CALNAME:Cambridge High School
X-ORIGINAL-URL:https://cambridge.edu.jo
X-WR-CALDESC:Events for Cambridge High School
REFRESH-INTERVAL;VALUE=DURATION:PT1H
X-Robots-Tag:noindex
X-PUBLISHED-TTL:PT1H
BEGIN:VTIMEZONE
TZID:UTC
BEGIN:STANDARD
TZOFFSETFROM:+0000
TZOFFSETTO:+0000
TZNAME:UTC
DTSTART:20240101T000000
END:STANDARD
END:VTIMEZONE
BEGIN:VEVENT
DTSTART;TZID=UTC:20260420T080000
DTEND;TZID=UTC:20260420T170000
DTSTAMP:20260422T052021
CREATED:20250908T080546Z
LAST-MODIFIED:20250908T080546Z
UID:2607-1776672000-1776704400@cambridge.edu.jo
SUMMARY:Grade 11 Group 4 Collaboration project
DESCRIPTION:
URL:https://cambridge.edu.jo/event/grade-11-group-4-collaboration-project/
CATEGORIES:IBDP
END:VEVENT
BEGIN:VEVENT
DTSTART;TZID=UTC:20260407T080000
DTEND;TZID=UTC:20260409T170000
DTSTAMP:20260422T052021
CREATED:20250908T080706Z
LAST-MODIFIED:20250908T080706Z
UID:2613-1775548800-1775754000@cambridge.edu.jo
SUMMARY:Grade 12 makeup exams
DESCRIPTION:
URL:https://cambridge.edu.jo/event/grade-12-makeup-exams/
CATEGORIES:IBDP
END:VEVENT
BEGIN:VEVENT
DTSTART;TZID=UTC:20260402T080000
DTEND;TZID=UTC:20260402T170000
DTSTAMP:20260422T052021
CREATED:20250908T080131Z
LAST-MODIFIED:20250908T080131Z
UID:2589-1775116800-1775149200@cambridge.edu.jo
SUMMARY:Grade 12 Farewell Party
DESCRIPTION:
URL:https://cambridge.edu.jo/event/grade-12-farewell-party/
CATEGORIES:IBDP
END:VEVENT
BEGIN:VEVENT
DTSTART;TZID=UTC:20260401T080000
DTEND;TZID=UTC:20260401T170000
DTSTAMP:20260422T052021
CREATED:20250908T080057Z
LAST-MODIFIED:20250908T080057Z
UID:2587-1775030400-1775062800@cambridge.edu.jo
SUMMARY:Last teaching day for grade 12
DESCRIPTION:
URL:https://cambridge.edu.jo/event/last-teaching-day-for-grade-12/
CATEGORIES:IBDP
END:VEVENT
BEGIN:VEVENT
DTSTART;TZID=UTC:20260312T080000
DTEND;TZID=UTC:20260312T170000
DTSTAMP:20260422T052021
CREATED:20250908T074933Z
LAST-MODIFIED:20250908T075000Z
UID:2566-1773302400-1773334800@cambridge.edu.jo
SUMMARY:IBDP Visual Arts Exhibition
DESCRIPTION:
URL:https://cambridge.edu.jo/event/ibdp-visual-arts-exhibition-setup/
CATEGORIES:IBDP
END:VEVENT
BEGIN:VEVENT
DTSTART;TZID=UTC:20260222T080000
DTEND;TZID=UTC:20260401T170000
DTSTAMP:20260422T052021
CREATED:20250908T074856Z
LAST-MODIFIED:20250908T074856Z
UID:2564-1771747200-1775062800@cambridge.edu.jo
SUMMARY:Grade 12 condensed month schedule
DESCRIPTION:
URL:https://cambridge.edu.jo/event/grade-12-condensed-month-schedule/
CATEGORIES:IBDP
END:VEVENT
BEGIN:VEVENT
DTSTART;TZID=UTC:20260222T080000
DTEND;TZID=UTC:20260401T170000
DTSTAMP:20260422T052021
CREATED:20250908T074219Z
LAST-MODIFIED:20250908T074219Z
UID:2548-1771747200-1775062800@cambridge.edu.jo
SUMMARY:Start of Grade 12 condensed month schedule
DESCRIPTION:
URL:https://cambridge.edu.jo/event/start-of-grade-12-condensed-month-schedule/
CATEGORIES:IBDP
END:VEVENT
BEGIN:VEVENT
DTSTART;TZID=UTC:20260213T080000
DTEND;TZID=UTC:20260214T170000
DTSTAMP:20260422T052021
CREATED:20250908T074504Z
LAST-MODIFIED:20250908T074504Z
UID:2554-1770969600-1771088400@cambridge.edu.jo
SUMMARY:Arabic B and English B Orals
DESCRIPTION:
URL:https://cambridge.edu.jo/event/arabic-b-and-english-b-orals/
CATEGORIES:IBDP
END:VEVENT
BEGIN:VEVENT
DTSTART;TZID=UTC:20260208T080000
DTEND;TZID=UTC:20260212T170000
DTSTAMP:20260422T052021
CREATED:20250908T073841Z
LAST-MODIFIED:20250908T073841Z
UID:2540-1770537600-1770915600@cambridge.edu.jo
SUMMARY:Career Week - Grades (10-12)
DESCRIPTION:
URL:https://cambridge.edu.jo/event/career-week-grades-10-12/
CATEGORIES:IBDP,Pre-IBDP (GR10)
END:VEVENT
BEGIN:VEVENT
DTSTART;TZID=UTC:20260118T080000
DTEND;TZID=UTC:20260129T170000
DTSTAMP:20260422T052021
CREATED:20250908T073437Z
LAST-MODIFIED:20250908T073437Z
UID:2528-1768723200-1769706000@cambridge.edu.jo
SUMMARY:Grade 12 mock exams
DESCRIPTION:
URL:https://cambridge.edu.jo/event/grade-12-mock-exams/
CATEGORIES:IBDP
END:VEVENT
BEGIN:VEVENT
DTSTART;TZID=UTC:20251223T080000
DTEND;TZID=UTC:20251223T170000
DTSTAMP:20260422T052021
CREATED:20250908T072753Z
LAST-MODIFIED:20250908T072753Z
UID:2506-1766476800-1766509200@cambridge.edu.jo
SUMMARY:Last teaching day for grade 12 (1st semester)
DESCRIPTION:
URL:https://cambridge.edu.jo/event/last-teaching-day-for-grade-12-1st-semester/
CATEGORIES:IBDP
END:VEVENT
BEGIN:VEVENT
DTSTART;TZID=UTC:20251213T080000
DTEND;TZID=UTC:20251213T170000
DTSTAMP:20260422T052021
CREATED:20250908T072940Z
LAST-MODIFIED:20250908T072940Z
UID:2514-1765612800-1765645200@cambridge.edu.jo
SUMMARY:Arabic A and English A Orals
DESCRIPTION:
URL:https://cambridge.edu.jo/event/arabic-a-and-english-a-orals/
CATEGORIES:IBDP
END:VEVENT
BEGIN:VEVENT
DTSTART;TZID=UTC:20251111T080000
DTEND;TZID=UTC:20251111T170000
DTSTAMP:20260422T052021
CREATED:20250908T072215Z
LAST-MODIFIED:20250908T072215Z
UID:2494-1762848000-1762880400@cambridge.edu.jo
SUMMARY:Grades 11- 12 Parents' Meeting
DESCRIPTION:
URL:https://cambridge.edu.jo/event/grades-11-12-parents-meeting/
CATEGORIES:IBDP
END:VEVENT
BEGIN:VEVENT
DTSTART;TZID=UTC:20251011T080000
DTEND;TZID=UTC:20251011T170000
DTSTAMP:20260422T052021
CREATED:20250908T071201Z
LAST-MODIFIED:20250908T071201Z
UID:2454-1760169600-1760202000@cambridge.edu.jo
SUMMARY:Military Camp
DESCRIPTION:
URL:https://cambridge.edu.jo/event/military-camp/
CATEGORIES:IBDP
END:VEVENT
BEGIN:VEVENT
DTSTART;TZID=UTC:20251002T080000
DTEND;TZID=UTC:20251003T170000
DTSTAMP:20260422T052021
CREATED:20250908T071531Z
LAST-MODIFIED:20250908T071531Z
UID:2468-1759392000-1759510800@cambridge.edu.jo
SUMMARY:Grade 12 Wadi Rum Trip
DESCRIPTION:
URL:https://cambridge.edu.jo/event/grade-12-wadi-rum-trip/
CATEGORIES:IBDP
END:VEVENT
BEGIN:VEVENT
DTSTART;TZID=UTC:20250925T080000
DTEND;TZID=UTC:20250925T170000
DTSTAMP:20260422T052021
CREATED:20250908T065422Z
LAST-MODIFIED:20250908T065422Z
UID:2414-1758787200-1758819600@cambridge.edu.jo
SUMMARY:3rd. NGO Fair - Grades (7-11)
DESCRIPTION:
URL:https://cambridge.edu.jo/event/3rd-ngo-fair-grades-7-11/
CATEGORIES:IBDP,MYP,Pre-IBDP (GR10)
END:VEVENT
BEGIN:VEVENT
DTSTART;TZID=UTC:20250913T080000
DTEND;TZID=UTC:20250913T170000
DTSTAMP:20260422T052021
CREATED:20250908T070005Z
LAST-MODIFIED:20250908T070005Z
UID:2428-1757750400-1757782800@cambridge.edu.jo
SUMMARY:IBDP Grades 11-12 orientation
DESCRIPTION:
URL:https://cambridge.edu.jo/event/ibdp-grades-11-12-orientation/
CATEGORIES:IBDP
END:VEVENT
END:VCALENDAR