BEGIN:VCALENDAR
VERSION:2.0
PRODID:-//Cambridge High School - ECPv6.15.20//NONSGML v1.0//EN
CALSCALE:GREGORIAN
METHOD:PUBLISH
X-ORIGINAL-URL:https://cambridge.edu.jo
X-WR-CALDESC:Events for Cambridge High School
REFRESH-INTERVAL;VALUE=DURATION:PT1H
X-Robots-Tag:noindex
X-PUBLISHED-TTL:PT1H
BEGIN:VTIMEZONE
TZID:UTC
BEGIN:STANDARD
TZOFFSETFROM:+0000
TZOFFSETTO:+0000
TZNAME:UTC
DTSTART:20250101T000000
END:STANDARD
END:VTIMEZONE
BEGIN:VEVENT
DTSTART;TZID=UTC:20260318T080000
DTEND;TZID=UTC:20260318T170000
DTSTAMP:20260422T214933
CREATED:20250908T075421Z
LAST-MODIFIED:20250908T075421Z
UID:2573-1773820800-1773853200@cambridge.edu.jo
SUMMARY:KG Ramadan Celebration
DESCRIPTION:
URL:https://cambridge.edu.jo/event/kg-ramadan-celebration/
CATEGORIES:All School
END:VEVENT
BEGIN:VEVENT
DTSTART;TZID=UTC:20260320T080000
DTEND;TZID=UTC:20260323T170000
DTSTAMP:20260422T214933
CREATED:20250908T075852Z
LAST-MODIFIED:20250908T075852Z
UID:2583-1773993600-1774285200@cambridge.edu.jo
SUMMARY:Eid Al-Fitr holiday
DESCRIPTION:
URL:https://cambridge.edu.jo/event/eid-al-fitr-holiday/
CATEGORIES:All School
END:VEVENT
BEGIN:VEVENT
DTSTART;TZID=UTC:20260405T080000
DTEND;TZID=UTC:20260405T170000
DTSTAMP:20260422T214933
CREATED:20250908T075915Z
LAST-MODIFIED:20260422T082411Z
UID:2585-1775376000-1775408400@cambridge.edu.jo
SUMMARY:Palm Sunday
DESCRIPTION:
URL:https://cambridge.edu.jo/event/palm-sunday/
CATEGORIES:All School
END:VEVENT
BEGIN:VEVENT
DTSTART;TZID=UTC:20260412T080000
DTEND;TZID=UTC:20260413T170000
DTSTAMP:20260422T214933
CREATED:20250908T080846Z
LAST-MODIFIED:20260422T082034Z
UID:2617-1775980800-1776099600@cambridge.edu.jo
SUMMARY:Easter holiday
DESCRIPTION:
URL:https://cambridge.edu.jo/event/easter-holiday/
CATEGORIES:All School
END:VEVENT
BEGIN:VEVENT
DTSTART;TZID=UTC:20260416T080000
DTEND;TZID=UTC:20260416T170000
DTSTAMP:20260422T214933
CREATED:20250908T080445Z
LAST-MODIFIED:20250908T080445Z
UID:2603-1776326400-1776358800@cambridge.edu.jo
SUMMARY:Jordanian Flag Day
DESCRIPTION:
URL:https://cambridge.edu.jo/event/jordanian-flag-day/
CATEGORIES:All School
END:VEVENT
BEGIN:VEVENT
DTSTART;TZID=UTC:20260428T080000
DTEND;TZID=UTC:20260429T170000
DTSTAMP:20260422T214933
CREATED:20250908T080932Z
LAST-MODIFIED:20260422T081619Z
UID:2619-1777363200-1777482000@cambridge.edu.jo
SUMMARY:Grade 1 assembly
DESCRIPTION:
URL:https://cambridge.edu.jo/event/grade-1-assembly/
CATEGORIES:All School
END:VEVENT
BEGIN:VEVENT
DTSTART;TZID=UTC:20260513T080000
DTEND;TZID=UTC:20260514T170000
DTSTAMP:20260422T214933
CREATED:20250908T081317Z
LAST-MODIFIED:20250908T081317Z
UID:2630-1778659200-1778778000@cambridge.edu.jo
SUMMARY:School Play / Grades (6-11)
DESCRIPTION:
URL:https://cambridge.edu.jo/event/school-play-grades-6-11/
CATEGORIES:All School
END:VEVENT
BEGIN:VEVENT
DTSTART;TZID=UTC:20260521T080000
DTEND;TZID=UTC:20260521T170000
DTSTAMP:20260422T214933
CREATED:20250908T081436Z
LAST-MODIFIED:20260422T080653Z
UID:2638-1779350400-1779382800@cambridge.edu.jo
SUMMARY:Jordan's Independence Day Celebration
DESCRIPTION:
URL:https://cambridge.edu.jo/event/jordans-independence-day-celebration/
CATEGORIES:All School
END:VEVENT
END:VCALENDAR