BEGIN:VCALENDAR
VERSION:2.0
PRODID:-//Cambridge High School - ECPv6.15.14//NONSGML v1.0//EN
CALSCALE:GREGORIAN
METHOD:PUBLISH
X-ORIGINAL-URL:https://cambridge.edu.jo
X-WR-CALDESC:Events for Cambridge High School
REFRESH-INTERVAL;VALUE=DURATION:PT1H
X-Robots-Tag:noindex
X-PUBLISHED-TTL:PT1H
BEGIN:VTIMEZONE
TZID:UTC
BEGIN:STANDARD
TZOFFSETFROM:+0000
TZOFFSETTO:+0000
TZNAME:UTC
DTSTART:20250101T000000
END:STANDARD
END:VTIMEZONE
BEGIN:VEVENT
DTSTART;TZID=UTC:20260201T080000
DTEND;TZID=UTC:20260201T170000
DTSTAMP:20260422T083329
CREATED:20250908T073600Z
LAST-MODIFIED:20250908T073600Z
UID:2532-1769932800-1769965200@cambridge.edu.jo
SUMMARY:Namleyet Ramadan Donation Campaign (4)
DESCRIPTION:
URL:https://cambridge.edu.jo/event/namleyet-ramadan-donation-campaign-4/
CATEGORIES:All School
END:VEVENT
END:VCALENDAR