BEGIN:VCALENDAR
VERSION:2.0
PRODID:-//Cambridge High School - ECPv6.15.14//NONSGML v1.0//EN
CALSCALE:GREGORIAN
METHOD:PUBLISH
X-WR-CALNAME:Cambridge High School
X-ORIGINAL-URL:https://cambridge.edu.jo
X-WR-CALDESC:Events for Cambridge High School
REFRESH-INTERVAL;VALUE=DURATION:PT1H
X-Robots-Tag:noindex
X-PUBLISHED-TTL:PT1H
BEGIN:VTIMEZONE
TZID:UTC
BEGIN:STANDARD
TZOFFSETFROM:+0000
TZOFFSETTO:+0000
TZNAME:UTC
DTSTART:20250101T000000
END:STANDARD
END:VTIMEZONE
BEGIN:VEVENT
DTSTART;TZID=UTC:20260531T080000
DTEND;TZID=UTC:20260531T170000
DTSTAMP:20260422T020733
CREATED:20250908T081457Z
LAST-MODIFIED:20250908T081457Z
UID:2640-1780214400-1780246800@cambridge.edu.jo
SUMMARY:KG Day Camp & Slushy prepared by students
DESCRIPTION:
URL:https://cambridge.edu.jo/event/kg-day-camp-slushy-prepared-by-students/
CATEGORIES:Kindergarten
END:VEVENT
BEGIN:VEVENT
DTSTART;TZID=UTC:20260531T080000
DTEND;TZID=UTC:20260611T170000
DTSTAMP:20260422T020733
CREATED:20250908T081907Z
LAST-MODIFIED:20250908T081907Z
UID:2662-1780214400-1781197200@cambridge.edu.jo
SUMMARY:Final Exams for Grades (1- 10)
DESCRIPTION:
URL:https://cambridge.edu.jo/event/final-exams-for-grades-1-10/
END:VEVENT
BEGIN:VEVENT
DTSTART;TZID=UTC:20260531T080000
DTEND;TZID=UTC:20260611T170000
DTSTAMP:20260422T020733
CREATED:20250908T081932Z
LAST-MODIFIED:20250908T081932Z
UID:2664-1780214400-1781197200@cambridge.edu.jo
SUMMARY:Grade 11 mini-mock exams
DESCRIPTION:
URL:https://cambridge.edu.jo/event/grade-11-mini-mock-exams/
END:VEVENT
END:VCALENDAR